BEGIN:VCALENDAR
VERSION:2.0
PRODID:https://www.visit-erlangen.de/
X-PUBLISHED-TTL:P1D
BEGIN:VEVENT
UID:69ed64d91ea07
DTSTART;VALUE=DATE:20250101
SEQUENCE:0
TRANSP:OPAQUE
DTEND;VALUE=DATE:20300101
URL:https://www.visit-erlangen.de/veranstaltungen/klassikerfuehrung_erlange
 n_im-552543-12494847/
LOCATION:Hugenottenkirche - Erlangen
SUMMARY:Klassikerführung: Erlangen im Quadrat²
DESCRIPTION:Die Hugenottenstadt mit Ecken\, Kanten – und ganz viel Geschi
 chte
X-MICROSOFT-CDO-ALLDAYEVENT:TRUE
DTSTAMP:20260426T030529Z
END:VEVENT
END:VCALENDAR