BEGIN:VCALENDAR
VERSION:2.0
PRODID:https://www.visit-erlangen.de/
X-PUBLISHED-TTL:P1D
BEGIN:VEVENT
UID:69e509fb9ff5e
DTSTART:20260509T110000Z
SEQUENCE:0
TRANSP:OPAQUE
DTEND:20260509T121500Z
URL:https://www.visit-erlangen.de/veranstaltungen/informationsfuehrung_zum_
 ersat-702793-12617819/
LOCATION:Kriegenbrunn Bushaltestelle Schleusenstraße - Erlangen
SUMMARY:Informationsführung zum Ersatzneubau der Schleuse Kriegenbrunn
DESCRIPTION:Ein Projekt der Superlative
DTSTAMP:20260419T185939Z
END:VEVENT
END:VCALENDAR