BEGIN:VCALENDAR
VERSION:2.0
PRODID:https://www.visit-erlangen.de/
X-PUBLISHED-TTL:P1D
BEGIN:VEVENT
UID:69e5f92f13bfa
DTSTART;VALUE=DATE:20260401
SEQUENCE:0
TRANSP:OPAQUE
DTEND;VALUE=DATE:20261001
URL:https://www.visit-erlangen.de/veranstaltungen/bierkutscher_schorsch-634
 605-12572459/
LOCATION:Markgrafendenkmal - Erlangen
SUMMARY:Bierkutscher Schorsch
DESCRIPTION:Mit Schorsch zurück ins goldene Zeitalter des Bieres -  Eine Z
 eitreise voller Witz\, Geschichte und Hopfen
X-MICROSOFT-CDO-ALLDAYEVENT:TRUE
DTSTAMP:20260420T120015Z
END:VEVENT
END:VCALENDAR